Package: Rcpi Version: 1.40.0 Command: rm -rf Rcpi.buildbin-libdir && mkdir Rcpi.buildbin-libdir && /Users/biocbuild/BBS/utils/build-universal.sh Rcpi_1.40.0.tar.gz /Library/Frameworks/R.framework/Resources/bin/R Rcpi.buildbin-libdir StartedAt: 2024-06-11 12:43:20 -0400 (Tue, 11 Jun 2024) EndedAt: 2024-06-11 12:43:57 -0400 (Tue, 11 Jun 2024) EllapsedTime: 36.6 seconds RetCode: 0 Status: OK PackageFile: Rcpi_1.40.0.tgz PackageFileSize: 2.573 MiB