Package: Rcpi Version: 1.40.3 Command: /Library/Frameworks/R.framework/Resources/bin/R CMD INSTALL Rcpi StartedAt: 2024-10-16 15:49:38 -0400 (Wed, 16 Oct 2024) EndedAt: 2024-10-16 15:50:21 -0400 (Wed, 16 Oct 2024) EllapsedTime: 43.3 seconds RetCode: 0 Status: OK