Package: Rcpi Version: 1.40.3 Command: /home/biocbuild/bbs-3.19-bioc/R/bin/R CMD build --keep-empty-dirs --no-resave-data Rcpi StartedAt: 2024-10-16 20:21:10 -0400 (Wed, 16 Oct 2024) EndedAt: 2024-10-16 20:21:31 -0400 (Wed, 16 Oct 2024) EllapsedTime: 20.0 seconds RetCode: 0 Status: OK PackageFile: Rcpi_1.40.3.tar.gz PackageFileSize: 2.97 MiB