Package: Rcpi Version: 1.40.3 Command: /home/biocbuild/bbs-3.19-bioc/R/bin/R CMD INSTALL Rcpi StartedAt: 2024-10-16 16:13:29 -0400 (Wed, 16 Oct 2024) EndedAt: 2024-10-16 16:13:45 -0400 (Wed, 16 Oct 2024) EllapsedTime: 16.6 seconds RetCode: 0 Status: OK