Package: Rcpi Version: 1.40.0 Command: rm -rf Rcpi.buildbin-libdir && mkdir Rcpi.buildbin-libdir && F:\biocbuild\bbs-3.19-bioc\R\bin\R.exe CMD INSTALL --build --library=Rcpi.buildbin-libdir Rcpi_1.40.0.tar.gz StartedAt: 2024-06-27 08:45:09 -0400 (Thu, 27 Jun 2024) EndedAt: 2024-06-27 08:45:52 -0400 (Thu, 27 Jun 2024) EllapsedTime: 42.8 seconds RetCode: 0 Status: OK PackageFile: Rcpi_1.40.0.zip PackageFileSize: 2.574 MiB