Package: Rcpi Version: 1.40.3 Command: E:\biocbuild\bbs-3.19-bioc\R\bin\R.exe CMD INSTALL Rcpi StartedAt: 2024-10-16 16:36:25 -0400 (Wed, 16 Oct 2024) EndedAt: 2024-10-16 16:37:24 -0400 (Wed, 16 Oct 2024) EllapsedTime: 59.6 seconds RetCode: 0 Status: OK