Package: Rdisop Version: 1.64.0 Command: rm -rf Rdisop.buildbin-libdir && mkdir Rdisop.buildbin-libdir && /Users/biocbuild/BBS/utils/build-universal.sh Rdisop_1.64.0.tar.gz /Library/Frameworks/R.framework/Resources/bin/R Rdisop.buildbin-libdir StartedAt: 2024-10-18 20:11:18 -0400 (Fri, 18 Oct 2024) EndedAt: 2024-10-18 20:12:04 -0400 (Fri, 18 Oct 2024) EllapsedTime: 46.6 seconds RetCode: 0 Status: OK PackageFile: Rdisop_1.64.0.tgz PackageFileSize: 457.1 KiB