Package: Rdisop Version: 1.64.0 Command: /Library/Frameworks/R.framework/Resources/bin/R CMD build --keep-empty-dirs --no-resave-data Rdisop StartedAt: 2024-10-17 07:18:46 -0400 (Thu, 17 Oct 2024) EndedAt: 2024-10-17 07:19:34 -0400 (Thu, 17 Oct 2024) EllapsedTime: 47.2 seconds RetCode: 0 Status: OK PackageFile: Rdisop_1.64.0.tar.gz PackageFileSize: 958.2 KiB