Package: Rdisop Version: 1.64.0 Command: /Library/Frameworks/R.framework/Resources/bin/R CMD check --install=check:Rdisop.install-out.txt --library=/Library/Frameworks/R.framework/Resources/library --no-vignettes --timings Rdisop_1.64.0.tar.gz StartedAt: 2024-10-18 08:57:01 -0400 (Fri, 18 Oct 2024) EndedAt: 2024-10-18 08:57:33 -0400 (Fri, 18 Oct 2024) EllapsedTime: 32.5 seconds RetCode: 0 Status: WARNINGS CheckDir: Rdisop.Rcheck Warnings: 1