Package: Rdisop Version: 1.64.0 Command: /Library/Frameworks/R.framework/Resources/bin/R CMD check --install=check:Rdisop.install-out.txt --library=/Library/Frameworks/R.framework/Resources/library --no-vignettes --timings Rdisop_1.64.0.tar.gz StartedAt: 2024-06-11 02:34:02 -0400 (Tue, 11 Jun 2024) EndedAt: 2024-06-11 02:34:54 -0400 (Tue, 11 Jun 2024) EllapsedTime: 52.3 seconds RetCode: 0 Status: WARNINGS CheckDir: Rdisop.Rcheck Warnings: 1