Package: Rdisop Version: 1.64.0 Command: /Library/Frameworks/R.framework/Resources/bin/R CMD check --install=check:Rdisop.install-out.txt --library=/Library/Frameworks/R.framework/Resources/library --no-vignettes --timings Rdisop_1.64.0.tar.gz StartedAt: 2024-10-17 11:34:43 -0400 (Thu, 17 Oct 2024) EndedAt: 2024-10-17 11:35:34 -0400 (Thu, 17 Oct 2024) EllapsedTime: 50.6 seconds RetCode: 0 Status: WARNINGS CheckDir: Rdisop.Rcheck Warnings: 1