Package: Rdisop Version: 1.64.0 Command: /home/biocbuild/bbs-3.19-bioc/R/bin/R CMD build --keep-empty-dirs --no-resave-data Rdisop StartedAt: 2024-10-16 20:21:40 -0400 (Wed, 16 Oct 2024) EndedAt: 2024-10-16 20:22:14 -0400 (Wed, 16 Oct 2024) EllapsedTime: 34.1 seconds RetCode: 0 Status: OK PackageFile: Rdisop_1.64.0.tar.gz PackageFileSize: 818.6 KiB