Package: Rdisop Version: 1.64.0 Command: /home/biocbuild/bbs-3.19-bioc/R/bin/R CMD INSTALL Rdisop StartedAt: 2024-10-16 15:50:18 -0400 (Wed, 16 Oct 2024) EndedAt: 2024-10-16 15:50:49 -0400 (Wed, 16 Oct 2024) EllapsedTime: 30.4 seconds RetCode: 0 Status: OK