Package: Rdisop Version: 1.64.0 Command: rm -rf Rdisop.buildbin-libdir && mkdir Rdisop.buildbin-libdir && E:\biocbuild\bbs-3.19-bioc\R\bin\R.exe CMD INSTALL --build --library=Rdisop.buildbin-libdir Rdisop_1.64.0.tar.gz StartedAt: 2024-10-17 08:26:45 -0400 (Thu, 17 Oct 2024) EndedAt: 2024-10-17 08:28:08 -0400 (Thu, 17 Oct 2024) EllapsedTime: 82.8 seconds RetCode: 0 Status: OK PackageFile: Rdisop_1.64.0.zip PackageFileSize: 660.1 KiB