Package: ReQON Version: 1.50.0 Command: /Library/Frameworks/R.framework/Resources/bin/R CMD build --keep-empty-dirs --no-resave-data ReQON StartedAt: 2024-10-17 07:28:39 -0400 (Thu, 17 Oct 2024) EndedAt: 2024-10-17 07:28:40 -0400 (Thu, 17 Oct 2024) EllapsedTime: 1.2 seconds RetCode: 1 Status: ERROR PackageFile: None PackageFileSize: NA