Package: ReQON Version: 1.49.1 Command: /home/biocbuild/R/R-devel_2024-01-16_r85812/bin/R CMD check --install=check:ReQON.install-out.txt --library=/home/biocbuild/R/R-devel_2024-01-16_r85812/site-library --no-vignettes --timings ReQON_1.49.1.tar.gz StartedAt: 2024-03-12 08:21:22 -0000 (Tue, 12 Mar 2024) EndedAt: 2024-03-12 08:22:54 -0000 (Tue, 12 Mar 2024) EllapsedTime: 91.2 seconds RetCode: 0 Status: WARNINGS CheckDir: ReQON.Rcheck Warnings: 1