Package: ReQON Version: 1.50.0 Command: /Library/Frameworks/R.framework/Resources/bin/R CMD INSTALL ReQON StartedAt: 2024-06-09 15:47:48 -0400 (Sun, 09 Jun 2024) EndedAt: 2024-06-09 15:47:48 -0400 (Sun, 09 Jun 2024) EllapsedTime: 0.2 seconds RetCode: 1 Status: ERROR