Package: ReQON Version: 1.50.0 Command: /Library/Frameworks/R.framework/Resources/bin/R CMD build --keep-empty-dirs --no-resave-data ReQON StartedAt: 2024-10-16 22:31:49 -0400 (Wed, 16 Oct 2024) EndedAt: 2024-10-16 22:31:52 -0400 (Wed, 16 Oct 2024) EllapsedTime: 2.2 seconds RetCode: 1 Status: ERROR PackageFile: None PackageFileSize: NA