Package: ReQON Version: 1.50.0 Command: /home/biocbuild/bbs-3.19-bioc/R/bin/R CMD build --keep-empty-dirs --no-resave-data ReQON StartedAt: 2024-10-16 20:24:17 -0400 (Wed, 16 Oct 2024) EndedAt: 2024-10-16 20:24:18 -0400 (Wed, 16 Oct 2024) EllapsedTime: 1.0 seconds RetCode: 1 Status: ERROR PackageFile: None PackageFileSize: NA