Package: ReQON Version: 1.50.0 Command: chmod a+r ReQON -R && F:\biocbuild\bbs-3.19-bioc\R\bin\R.exe CMD build --keep-empty-dirs --no-resave-data ReQON StartedAt: 2024-06-26 21:21:05 -0400 (Wed, 26 Jun 2024) EndedAt: 2024-06-26 21:21:06 -0400 (Wed, 26 Jun 2024) EllapsedTime: 1.5 seconds RetCode: 1 Status: ERROR PackageFile: None PackageFileSize: NA