Package: ReQON Version: 1.50.0 Command: F:\biocbuild\bbs-3.19-bioc\R\bin\R.exe CMD INSTALL ReQON StartedAt: 2024-06-26 16:58:50 -0400 (Wed, 26 Jun 2024) EndedAt: 2024-06-26 16:58:50 -0400 (Wed, 26 Jun 2024) EllapsedTime: 0.4 seconds RetCode: 1 Status: ERROR