Package: ReQON Version: 1.50.0 Command: chmod a+r ReQON -R && E:\biocbuild\bbs-3.19-bioc\R\bin\R.exe CMD build --keep-empty-dirs --no-resave-data ReQON StartedAt: 2024-10-16 21:28:17 -0400 (Wed, 16 Oct 2024) EndedAt: 2024-10-16 21:28:19 -0400 (Wed, 16 Oct 2024) EllapsedTime: 2.0 seconds RetCode: 1 Status: ERROR PackageFile: None PackageFileSize: NA