Package: ReQON Version: 1.50.0 Command: E:\biocbuild\bbs-3.19-bioc\R\bin\R.exe CMD INSTALL ReQON StartedAt: 2024-10-16 17:27:53 -0400 (Wed, 16 Oct 2024) EndedAt: 2024-10-16 17:27:53 -0400 (Wed, 16 Oct 2024) EllapsedTime: 0.3 seconds RetCode: 1 Status: ERROR