Package: ReUseData Version: 1.4.0 Command: rm -rf ReUseData.buildbin-libdir && mkdir ReUseData.buildbin-libdir && /Users/biocbuild/BBS/utils/build-universal.sh ReUseData_1.4.0.tar.gz /Library/Frameworks/R.framework/Resources/bin/R ReUseData.buildbin-libdir StartedAt: 2024-06-11 12:47:18 -0400 (Tue, 11 Jun 2024) EndedAt: 2024-06-11 12:47:52 -0400 (Tue, 11 Jun 2024) EllapsedTime: 34.2 seconds RetCode: 0 Status: OK PackageFile: ReUseData_1.4.0.tgz PackageFileSize: 1.378 MiB