Package: ReactomeContentService4R Version: 1.12.0 Command: E:\biocbuild\bbs-3.19-bioc\R\bin\R.exe CMD check --no-multiarch --install=check:ReactomeContentService4R.install-out.txt --library=E:\biocbuild\bbs-3.19-bioc\R\library --no-vignettes --timings ReactomeContentService4R_1.12.0.tar.gz StartedAt: 2024-10-17 04:52:59 -0400 (Thu, 17 Oct 2024) EndedAt: 2024-10-17 04:53:33 -0400 (Thu, 17 Oct 2024) EllapsedTime: 34.4 seconds RetCode: 1 Status: ERROR CheckDir: ReactomeContentService4R.Rcheck Warnings: NA