Package: ReactomeGSA Version: 1.18.0 Command: /Library/Frameworks/R.framework/Resources/bin/R CMD build --keep-empty-dirs --no-resave-data ReactomeGSA StartedAt: 2024-06-10 03:14:24 -0400 (Mon, 10 Jun 2024) EndedAt: 2024-06-10 03:20:03 -0400 (Mon, 10 Jun 2024) EllapsedTime: 339.2 seconds RetCode: 0 Status: OK PackageFile: ReactomeGSA_1.18.0.tar.gz PackageFileSize: 368.7 KiB