Package: ReactomeGSA Version: 1.18.0 Command: /Library/Frameworks/R.framework/Resources/bin/R CMD build --keep-empty-dirs --no-resave-data ReactomeGSA StartedAt: 2024-06-09 17:52:17 -0400 (Sun, 09 Jun 2024) EndedAt: 2024-06-09 17:56:42 -0400 (Sun, 09 Jun 2024) EllapsedTime: 264.9 seconds RetCode: 0 Status: OK PackageFile: ReactomeGSA_1.18.0.tar.gz PackageFileSize: 368.5 KiB