Package: ReactomeGSA Version: 1.18.0 Command: /Library/Frameworks/R.framework/Resources/bin/R CMD build --keep-empty-dirs --no-resave-data ReactomeGSA StartedAt: 2024-10-16 22:28:04 -0400 (Wed, 16 Oct 2024) EndedAt: 2024-10-16 22:36:30 -0400 (Wed, 16 Oct 2024) EllapsedTime: 506.3 seconds RetCode: 0 Status: OK PackageFile: ReactomeGSA_1.18.0.tar.gz PackageFileSize: 365.3 KiB