Package: ReactomeGSA Version: 1.18.0 Command: /home/biocbuild/bbs-3.19-bioc/R/bin/R CMD INSTALL ReactomeGSA StartedAt: 2024-10-16 15:57:08 -0400 (Wed, 16 Oct 2024) EndedAt: 2024-10-16 15:57:15 -0400 (Wed, 16 Oct 2024) EllapsedTime: 7.7 seconds RetCode: 0 Status: OK