Package: ReactomeGSA Version: 1.18.0 Command: rm -rf ReactomeGSA.buildbin-libdir && mkdir ReactomeGSA.buildbin-libdir && F:\biocbuild\bbs-3.19-bioc\R\bin\R.exe CMD INSTALL --build --library=ReactomeGSA.buildbin-libdir ReactomeGSA_1.18.0.tar.gz StartedAt: 2024-06-27 08:45:29 -0400 (Thu, 27 Jun 2024) EndedAt: 2024-06-27 08:45:50 -0400 (Thu, 27 Jun 2024) EllapsedTime: 20.9 seconds RetCode: 0 Status: OK PackageFile: ReactomeGSA_1.18.0.zip PackageFileSize: 487.2 KiB