Package: ReactomeGSA Version: 1.18.0 Command: chmod a+r ReactomeGSA -R && F:\biocbuild\bbs-3.19-bioc\R\bin\R.exe CMD build --keep-empty-dirs --no-resave-data ReactomeGSA StartedAt: 2024-06-26 21:18:49 -0400 (Wed, 26 Jun 2024) EndedAt: 2024-06-26 21:24:01 -0400 (Wed, 26 Jun 2024) EllapsedTime: 312.5 seconds RetCode: 0 Status: OK PackageFile: ReactomeGSA_1.18.0.tar.gz PackageFileSize: 150.2 KiB