Package: RedeR Version: 3.0.0 Command: /Library/Frameworks/R.framework/Resources/bin/R CMD INSTALL RedeR StartedAt: 2024-10-16 16:01:24 -0400 (Wed, 16 Oct 2024) EndedAt: 2024-10-16 16:01:30 -0400 (Wed, 16 Oct 2024) EllapsedTime: 6.5 seconds RetCode: 0 Status: OK