Package: RedeR Version: 3.0.0 Command: /home/biocbuild/R/R-beta-2024-04-15_r86425/bin/R CMD build --keep-empty-dirs --no-resave-data RedeR StartedAt: 2024-05-09 02:54:08 -0000 (Thu, 09 May 2024) EndedAt: 2024-05-09 02:54:23 -0000 (Thu, 09 May 2024) EllapsedTime: 15.0 seconds RetCode: 0 Status: OK PackageFile: RedeR_3.0.0.tar.gz PackageFileSize: 4.416 MiB