Package: RedeR Version: 3.0.0 Command: rm -rf RedeR.buildbin-libdir && mkdir RedeR.buildbin-libdir && F:\biocbuild\bbs-3.19-bioc\R\bin\R.exe CMD INSTALL --build --library=RedeR.buildbin-libdir RedeR_3.0.0.tar.gz StartedAt: 2024-06-27 08:45:52 -0400 (Thu, 27 Jun 2024) EndedAt: 2024-06-27 08:46:23 -0400 (Thu, 27 Jun 2024) EllapsedTime: 31.3 seconds RetCode: 0 Status: OK PackageFile: RedeR_3.0.0.zip PackageFileSize: 3.63 MiB