Package: RedeR Version: 3.0.0 Command: chmod a+r RedeR -R && F:\biocbuild\bbs-3.19-bioc\R\bin\R.exe CMD build --keep-empty-dirs --no-resave-data RedeR StartedAt: 2024-06-26 21:19:26 -0400 (Wed, 26 Jun 2024) EndedAt: 2024-06-26 21:20:46 -0400 (Wed, 26 Jun 2024) EllapsedTime: 79.9 seconds RetCode: 0 Status: OK PackageFile: RedeR_3.0.0.tar.gz PackageFileSize: 4.347 MiB