Package: RedeR Version: 3.0.0 Command: F:\biocbuild\bbs-3.19-bioc\R\bin\R.exe CMD INSTALL RedeR StartedAt: 2024-06-26 15:47:19 -0400 (Wed, 26 Jun 2024) EndedAt: 2024-06-26 15:47:37 -0400 (Wed, 26 Jun 2024) EllapsedTime: 18.5 seconds RetCode: 0 Status: OK