Package: RefPlus Version: 1.74.0 Command: /home/biocbuild/R/R-beta-2024-04-15_r86425/bin/R CMD INSTALL RefPlus StartedAt: 2024-05-08 20:14:20 -0000 (Wed, 08 May 2024) EndedAt: 2024-05-08 20:14:34 -0000 (Wed, 08 May 2024) EllapsedTime: 14.8 seconds RetCode: 0 Status: OK