Package: RefPlus Version: 1.74.0 Command: /Library/Frameworks/R.framework/Resources/bin/R CMD build --keep-empty-dirs --no-resave-data RefPlus StartedAt: 2024-06-09 17:52:43 -0400 (Sun, 09 Jun 2024) EndedAt: 2024-06-09 17:53:16 -0400 (Sun, 09 Jun 2024) EllapsedTime: 32.5 seconds RetCode: 0 Status: OK PackageFile: RefPlus_1.74.0.tar.gz PackageFileSize: 1.52 MiB