Package: RefPlus Version: 1.74.0 Command: /Library/Frameworks/R.framework/Resources/bin/R CMD build --keep-empty-dirs --no-resave-data RefPlus StartedAt: 2024-10-16 22:29:21 -0400 (Wed, 16 Oct 2024) EndedAt: 2024-10-16 22:30:30 -0400 (Wed, 16 Oct 2024) EllapsedTime: 68.9 seconds RetCode: 0 Status: OK PackageFile: RefPlus_1.74.0.tar.gz PackageFileSize: 1.521 MiB