Package: RefPlus Version: 1.74.0 Command: /home/biocbuild/bbs-3.19-bioc/R/bin/R CMD build --keep-empty-dirs --no-resave-data RefPlus StartedAt: 2024-10-16 20:22:40 -0400 (Wed, 16 Oct 2024) EndedAt: 2024-10-16 20:23:08 -0400 (Wed, 16 Oct 2024) EllapsedTime: 28.1 seconds RetCode: 0 Status: OK PackageFile: RefPlus_1.74.0.tar.gz PackageFileSize: 1.354 MiB