Package: RefPlus Version: 1.74.0 Command: /home/biocbuild/bbs-3.19-bioc/R/bin/R CMD check --install=check:RefPlus.install-out.txt --library=/home/biocbuild/bbs-3.19-bioc/R/site-library --timings RefPlus_1.74.0.tar.gz StartedAt: 2024-10-17 04:14:36 -0400 (Thu, 17 Oct 2024) EndedAt: 2024-10-17 04:17:34 -0400 (Thu, 17 Oct 2024) EllapsedTime: 178.4 seconds RetCode: 1 Status: ERROR CheckDir: RefPlus.Rcheck Warnings: NA