Package: RefPlus Version: 1.74.0 Command: rm -rf RefPlus.buildbin-libdir && mkdir RefPlus.buildbin-libdir && E:\biocbuild\bbs-3.19-bioc\R\bin\R.exe CMD INSTALL --build --library=RefPlus.buildbin-libdir RefPlus_1.74.0.tar.gz StartedAt: 2024-10-17 08:27:46 -0400 (Thu, 17 Oct 2024) EndedAt: 2024-10-17 08:28:03 -0400 (Thu, 17 Oct 2024) EllapsedTime: 17.2 seconds RetCode: 0 Status: OK PackageFile: RefPlus_1.74.0.zip PackageFileSize: 717.6 KiB