Package: RefPlus Version: 1.74.0 Command: chmod a+r RefPlus -R && E:\biocbuild\bbs-3.19-bioc\R\bin\R.exe CMD build --keep-empty-dirs --no-resave-data RefPlus StartedAt: 2024-10-16 21:26:51 -0400 (Wed, 16 Oct 2024) EndedAt: 2024-10-16 21:27:31 -0400 (Wed, 16 Oct 2024) EllapsedTime: 40.2 seconds RetCode: 0 Status: OK PackageFile: RefPlus_1.74.0.tar.gz PackageFileSize: 1.356 MiB