Package: RefPlus Version: 1.74.0 Command: E:\biocbuild\bbs-3.19-bioc\R\bin\R.exe CMD INSTALL RefPlus StartedAt: 2024-10-16 16:17:53 -0400 (Wed, 16 Oct 2024) EndedAt: 2024-10-16 16:18:07 -0400 (Wed, 16 Oct 2024) EllapsedTime: 14.2 seconds RetCode: 0 Status: OK