Package: RepViz Version: 1.20.0 Maintainer: Thomas Faux, Asta Laiho MaintainerEmail: asta.laiho at utu.fi git_url: https://git.bioconductor.org/packages/RepViz git_branch: RELEASE_3_19 git_last_commit: 7fd6b58 git_last_commit_date: 2024-04-30 11:14:07 -0400 (Tue, 30 Apr 2024)