Package: RepViz Version: 1.20.0 Command: /home/biocbuild/R/R-beta-2024-04-15_r86425/bin/R CMD build --keep-empty-dirs --no-resave-data RepViz StartedAt: 2024-05-09 02:57:05 -0000 (Thu, 09 May 2024) EndedAt: 2024-05-09 02:57:47 -0000 (Thu, 09 May 2024) EllapsedTime: 42.1 seconds RetCode: 0 Status: OK PackageFile: RepViz_1.20.0.tar.gz PackageFileSize: 203.6 KiB