Package: RepViz Version: 1.20.0 Command: rm -rf RepViz.buildbin-libdir && mkdir RepViz.buildbin-libdir && /Users/biocbuild/BBS/utils/build-universal.sh RepViz_1.20.0.tar.gz /Library/Frameworks/R.framework/Resources/bin/R RepViz.buildbin-libdir StartedAt: 2024-06-10 00:34:55 -0400 (Mon, 10 Jun 2024) EndedAt: 2024-06-10 00:35:20 -0400 (Mon, 10 Jun 2024) EllapsedTime: 25.6 seconds RetCode: 0 Status: OK PackageFile: RepViz_1.20.0.tgz PackageFileSize: 314.5 KiB