Package: RepViz Version: 1.20.0 Command: /Library/Frameworks/R.framework/Resources/bin/R CMD build --keep-empty-dirs --no-resave-data RepViz StartedAt: 2024-10-16 22:31:36 -0400 (Wed, 16 Oct 2024) EndedAt: 2024-10-16 22:32:57 -0400 (Wed, 16 Oct 2024) EllapsedTime: 80.4 seconds RetCode: 0 Status: OK PackageFile: RepViz_1.20.0.tar.gz PackageFileSize: 273.7 KiB