Package: RepViz Version: 1.20.0 Command: F:\biocbuild\bbs-3.19-bioc\R\bin\R.exe CMD check --no-multiarch --install=check:RepViz.install-out.txt --library=F:\biocbuild\bbs-3.19-bioc\R\library --no-vignettes --timings RepViz_1.20.0.tar.gz StartedAt: 2024-06-27 05:18:18 -0400 (Thu, 27 Jun 2024) EndedAt: 2024-06-27 05:20:45 -0400 (Thu, 27 Jun 2024) EllapsedTime: 147.5 seconds RetCode: 0 Status: WARNINGS CheckDir: RepViz.Rcheck Warnings: 3