Package: Repitools Version: 1.50.0 Command: chmod a+r Repitools -R && E:\biocbuild\bbs-3.19-bioc\R\bin\R.exe CMD build --keep-empty-dirs --no-resave-data Repitools StartedAt: 2024-10-16 21:28:10 -0400 (Wed, 16 Oct 2024) EndedAt: 2024-10-16 21:29:41 -0400 (Wed, 16 Oct 2024) EllapsedTime: 90.5 seconds RetCode: 0 Status: OK PackageFile: Repitools_1.50.0.tar.gz PackageFileSize: 1.562 MiB